BEGIN:VCALENDAR
VERSION:2.0
PRODID:-//Circular Economy Forum Austria - ECPv6.15.20//NONSGML v1.0//EN
CALSCALE:GREGORIAN
METHOD:PUBLISH
X-ORIGINAL-URL:https://circulareconomyforum.at
X-WR-CALDESC:Veranstaltungen für Circular Economy Forum Austria
REFRESH-INTERVAL;VALUE=DURATION:PT1H
X-Robots-Tag:noindex
X-PUBLISHED-TTL:PT1H
BEGIN:VTIMEZONE
TZID:Europe/Vienna
BEGIN:DAYLIGHT
TZOFFSETFROM:+0100
TZOFFSETTO:+0200
TZNAME:CEST
DTSTART:20250330T010000
END:DAYLIGHT
BEGIN:STANDARD
TZOFFSETFROM:+0200
TZOFFSETTO:+0100
TZNAME:CET
DTSTART:20251026T010000
END:STANDARD
BEGIN:DAYLIGHT
TZOFFSETFROM:+0100
TZOFFSETTO:+0200
TZNAME:CEST
DTSTART:20260329T010000
END:DAYLIGHT
BEGIN:STANDARD
TZOFFSETFROM:+0200
TZOFFSETTO:+0100
TZNAME:CET
DTSTART:20261025T010000
END:STANDARD
BEGIN:DAYLIGHT
TZOFFSETFROM:+0100
TZOFFSETTO:+0200
TZNAME:CEST
DTSTART:20270328T010000
END:DAYLIGHT
BEGIN:STANDARD
TZOFFSETFROM:+0200
TZOFFSETTO:+0100
TZNAME:CET
DTSTART:20271031T010000
END:STANDARD
END:VTIMEZONE
BEGIN:VEVENT
DTSTART;TZID=Europe/Vienna:20260421T170000
DTEND;TZID=Europe/Vienna:20260421T203000
DTSTAMP:20260420T023940
CREATED:20260310T125525Z
LAST-MODIFIED:20260310T162303Z
UID:10000145-1776790800-1776803400@circulareconomyforum.at
SUMMARY:8. Circular Open Space
DESCRIPTION:Am 21. April geht der Circular Open Space in die 8. Runde! \nWorum geht es? \nDieses Event bringt Expert:innen\, Praktiker:innen und Neugierige aus Praxis und Wissenschaft zusammen. Unser gemeinsames Ziel: das Thema Kreislaufwirtschaft in Österreich branchenübergreifend zu verbreiten\, weiterzudenken und voranzubringen. \nWie funktioniert ein Open Space? \nJe nach Teilnehmer:innenzahl gibt es mehrere parallele Gruppen für Diskussion und Erfahrungsaustausch rund um die Kreislaufwirtschaft. \nDie Agenda wird zu Beginn gemeinsam von allen Teilnehmer:innen erstellt. Jede:r kann daher eigene Themen\, Fragen oder Impulse einbringen – zum Beispiel: \n\n\n\npraktische Erfahrungsberichte\n\ngemeinsames Lösen konkreter Herausforderungen \n\n\ntheoretische Gedankenspiele \n\n\nDiskussion kontroverser Themen \n\n\n\n\nNatürlich ist es auch völlig in Ordnung\, einfach zuzuhören\, mitzudenken und Neues zu lernen. \nZielgruppe: \nWir freuen uns über Expert:innen und alle\, die es noch werden wollen. Im Mittelpunkt stehen das gemeinsame Lernen und der Austausch. Denn um ein Thema weiterzubringen\, braucht es beides: gute Fragen und gute Antworten.
URL:https://circulareconomyforum.at/veranstaltungen/8-circular-open-space/
LOCATION:Climate Lab\, Spittelauer Lände 45\, Wien\, 1090\, Österreich
CATEGORIES:Intern
ATTACH;FMTTYPE=image/jpeg:https://circulareconomyforum.at/wp-content/uploads/2026/03/WhatsApp-Image-2026-02-22-at-22.05.33.jpeg
END:VEVENT
BEGIN:VEVENT
DTSTART;TZID=Europe/Vienna:20260424T170000
DTEND;TZID=Europe/Vienna:20260424T224500
DTSTAMP:20260420T023940
CREATED:20260417T120305Z
LAST-MODIFIED:20260417T120732Z
UID:10000154-1777050000-1777070700@circulareconomyforum.at
SUMMARY:Können Sie eine Wand bauen\, die später wiederverwendet werden kann? #LNF26
DESCRIPTION:🏗️ Wie planen wir Gebäude so\, dass ihre Materialien auch in Zukunft wiederverwendet werden können? \nAm 24.04. sind wir bei der Langen Nacht der Forschung mit einer interaktiven Station zur nachhaltigen Gebäudeplanung vertreten!🔎 Dabei werdet ihr selbst aktiv! Ihr baut eine Wand aus Modulen\, die reale Baumaterialien und verschiedene Verbindungsarten simulieren\, und entscheidet selbst: \n🧱 wie Materialien kombiniert und verbunden werden\n♻️ ob sie später wieder trennbar und wiederverwendbar sind – oder zu Abfall werden\n🏠 wie Bauweise\, Materialwahl und Konstruktion die Nachhaltigkeit von Gebäuden beeinflussen \nSo seht ihr unmittelbar: Die Kreislauffähigkeit eines Gebäudes wird schon in der Planungsphase bestimmt. \nDie Station basiert auf aktuellen Lebenszyklusanalysen und ressourcenschonender Planung im Rahmen des FFG-Leitprojekts KRAISBAU. \n👉 Kommt vorbei! Die Station ist intuitiv\, spielerisch und erfordert kein Vorwissen – perfekt für Kinder\, Familien und alle\, die Lust auf die Baustelle der Zukunft haben.
URL:https://circulareconomyforum.at/veranstaltungen/koennen-sie-eine-wand-bauen-die-spaeter-wiederverwendet-werden-kann-lnf26/
LOCATION:Forschung im Zentrum\, Maria-Theresien-Platz\, Wien\, Wien\, 1010\, Austria
CATEGORIES:Intern
ATTACH;FMTTYPE=image/webp:https://circulareconomyforum.at/wp-content/uploads/2026/04/csm_LNF26_KeyVisual_Logo_Datum_16zu9_e5a60b4b7c-1.webp
END:VEVENT
BEGIN:VEVENT
DTSTART;TZID=Europe/Vienna:20260429T183000
DTEND;TZID=Europe/Vienna:20260429T194500
DTSTAMP:20260420T023940
CREATED:20260407T222713Z
LAST-MODIFIED:20260407T223033Z
UID:10000150-1777487400-1777491900@circulareconomyforum.at
SUMMARY:Kreislaufwirtschaft in der Praxis - Wie neue Lebens- und Geschäftsmodelle entstehen
DESCRIPTION:
URL:https://circulareconomyforum.at/veranstaltungen/kreislaufwirtschaft-in-der-praxis-wie-neue-lebens-und-geschaeftsmodelle-entstehen/
LOCATION:Wien
CATEGORIES:Extern
ATTACH;FMTTYPE=image/png:https://circulareconomyforum.at/wp-content/uploads/2026/03/Bild-Workshop-69ca6cd087f78.png
END:VEVENT
END:VCALENDAR