BEGIN:VCALENDAR
VERSION:2.0
PRODID:-//Circular Economy Forum Austria - ECPv6.15.20//NONSGML v1.0//EN
CALSCALE:GREGORIAN
METHOD:PUBLISH
X-WR-CALNAME:Circular Economy Forum Austria
X-ORIGINAL-URL:https://circulareconomyforum.at/en
X-WR-CALDESC:Events for Circular Economy Forum Austria
REFRESH-INTERVAL;VALUE=DURATION:PT1H
X-Robots-Tag:noindex
X-PUBLISHED-TTL:PT1H
BEGIN:VTIMEZONE
TZID:Europe/Vienna
BEGIN:DAYLIGHT
TZOFFSETFROM:+0100
TZOFFSETTO:+0200
TZNAME:CEST
DTSTART:20210328T010000
END:DAYLIGHT
BEGIN:STANDARD
TZOFFSETFROM:+0200
TZOFFSETTO:+0100
TZNAME:CET
DTSTART:20211031T010000
END:STANDARD
BEGIN:DAYLIGHT
TZOFFSETFROM:+0100
TZOFFSETTO:+0200
TZNAME:CEST
DTSTART:20220327T010000
END:DAYLIGHT
BEGIN:STANDARD
TZOFFSETFROM:+0200
TZOFFSETTO:+0100
TZNAME:CET
DTSTART:20221030T010000
END:STANDARD
BEGIN:DAYLIGHT
TZOFFSETFROM:+0100
TZOFFSETTO:+0200
TZNAME:CEST
DTSTART:20230326T010000
END:DAYLIGHT
BEGIN:STANDARD
TZOFFSETFROM:+0200
TZOFFSETTO:+0100
TZNAME:CET
DTSTART:20231029T010000
END:STANDARD
END:VTIMEZONE
BEGIN:VEVENT
DTSTART;TZID=Europe/Vienna:20220524T123000
DTEND;TZID=Europe/Vienna:20220524T133000
DTSTAMP:20260421T162009
CREATED:20220322T052925Z
LAST-MODIFIED:20220322T052925Z
UID:4351-1653395400-1653399000@circulareconomyforum.at
SUMMARY:Online Seminar: Wissensaufbau in Unternehmen\, Aus- und Weiterbildung für Kreislaufwirtschaft
DESCRIPTION:In einer 2019 durchgeführten Studie zu Potentialen und Hindernissen für Kreislaufwirtschaft in Österreich wurde nach den Ressourcen gefragt\, die Organisationen brauchen um deren Potentiale zu nutzen und sich den Herausforderungen zu stellen\, die ein Übergang zur Kreislaufwirtschaft mit sich bringt. Eines der Erkenntnisse war\, dass Unternehmen Wissen brauchen – sowohl auf thematischer Ebene (80 %)\, als auch auf einer konkreten unternehmensinternen Ebene (69 %). In unsrem Online Seminar geht es daher um Beispiele\, wie sowohl auf individueller als auch auf organisationaler Ebene Wissen für die Transformation aufgebaut werden kann. \n\n\n\nDazu haben wir Expert:innen aus der hochschulischen Weiterbildung und aus dem Unternehmensbereich eingeladen ihre Erfahrungen zu teilen. \n\n\n\nChristopher Kronenberg hält die Stiftungsprofessur für Wertschöpfung und Geschäftsmodelle an der FH des BFI Wien. Seine Forschungsschwerpunkte und Expertisen liegen im Bereich Strategie\, Innovation\, Geschäftsmodellentwicklung bei Jungunternehmen und KMU sowie der Regionalentwicklung und der Wettbewerbsfähigkeit von Regionen und Clustern. \n\n\n\nRaffaela Ortner ist Abteilungsleiterin Group ESG Strategy bei der A1 Telekom Austria Group und absolvierte ein Studium der Wirtschaftswissenschaften an der London School of Economics sowie Umweltmanagement und Ökotoxikologie an der FH Technikum. \n\n\n\nmoderiert von Stefan Blachfellner\, Bertalanffy Center und Circular Economy Forum Austria
URL:https://circulareconomyforum.at/en/veranstaltungen/online-seminar-wissensaufbau-in-unternehmen-aus-und-weiterbildung-fur-kreislaufwirtschaft/
CATEGORIES:Online Seminar
ATTACH;FMTTYPE=image/jpeg:https://circulareconomyforum.at/wp-content/uploads/2022/03/Invite-Online-Seminar-Weiterbildung.jpg
END:VEVENT
END:VCALENDAR