BEGIN:VCALENDAR
VERSION:2.0
PRODID:-//Circular Economy Forum Austria - ECPv6.15.20//NONSGML v1.0//EN
CALSCALE:GREGORIAN
METHOD:PUBLISH
X-WR-CALNAME:Circular Economy Forum Austria
X-ORIGINAL-URL:https://circulareconomyforum.at/en
X-WR-CALDESC:Events for Circular Economy Forum Austria
REFRESH-INTERVAL;VALUE=DURATION:PT1H
X-Robots-Tag:noindex
X-PUBLISHED-TTL:PT1H
BEGIN:VTIMEZONE
TZID:Europe/Vienna
BEGIN:DAYLIGHT
TZOFFSETFROM:+0100
TZOFFSETTO:+0200
TZNAME:CEST
DTSTART:20230326T010000
END:DAYLIGHT
BEGIN:STANDARD
TZOFFSETFROM:+0200
TZOFFSETTO:+0100
TZNAME:CET
DTSTART:20231029T010000
END:STANDARD
BEGIN:DAYLIGHT
TZOFFSETFROM:+0100
TZOFFSETTO:+0200
TZNAME:CEST
DTSTART:20240331T010000
END:DAYLIGHT
BEGIN:STANDARD
TZOFFSETFROM:+0200
TZOFFSETTO:+0100
TZNAME:CET
DTSTART:20241027T010000
END:STANDARD
BEGIN:DAYLIGHT
TZOFFSETFROM:+0100
TZOFFSETTO:+0200
TZNAME:CEST
DTSTART:20250330T010000
END:DAYLIGHT
BEGIN:STANDARD
TZOFFSETFROM:+0200
TZOFFSETTO:+0100
TZNAME:CET
DTSTART:20251026T010000
END:STANDARD
END:VTIMEZONE
BEGIN:VEVENT
DTSTART;TZID=Europe/Vienna:20241001T170000
DTEND;TZID=Europe/Vienna:20241001T220000
DTSTAMP:20260424T192512
CREATED:20240319T221651Z
LAST-MODIFIED:20240319T221651Z
UID:5851-1727802000-1727820000@circulareconomyforum.at
SUMMARY:Circular Movie Night
DESCRIPTION:CIRCULAR ECONOMY FORUM AUSTRIA zeigt den Dokumentarfilm „Green City Life“ und lädt gemeinsam mit WIEN ENERGIE und CEOs FOR FUTURE; mit freundlicher Unterstützung des Bundesministeriums für Klimaschutz\, Umwelt\, Energie\, Mobilität\, Innovation und Technologie\, am 1. Oktober 2024 ins STADTKINO im Künstlerhaus\, 1010 Wien\, ein. \n\n\n\n\n\n\n\n \n\n\n\nDie beiden jungen Filmemacher:innen Manon Turina & François Marques bereisen Städte in Mexiko\, Europa und den USA und zeigen auf\, wie wichtig es ist\, die Art und Weise\, wie wir in Städten bauen und leben\, zu überdenken. Sie sind weder Ökologen noch Wissenschaftler und bezeichnen sich selbst als zwei besorgte Stadtliebhaber. Mit dieser Sorge als treibende Kraft kommen sie auf ihrer Reise mit Kreisläufer:innen\, urbanen Landwirten\, Pflanzenarchitekten\, Guerilla-Gärtnern und anderen inspirierenden Menschen zusammen\, um Inspiration und Best Practice Beispiele für eine Welt von morgen zu sammeln. Sie entfalten mit beeindruckenden Projekten und der richtigen Portion Bodenständigkeit ein ganz eigenes Biotop an Hoffnung und Energie. \n\n\n\nIm Vorfeld des Films diskutiert ein Expertenpanel Ideen\, Maßnahmen und Wünsche\, für „Die lebenswerte Stadt der Zukunft – und was wir heute schon dafür tun können“ mit dem Publikum: \n\n\n\n\nBernadette Luger\, Stadt Wien\n\n\n\nLaura Fariello\, Wien Energie & CEOs for Future\n\n\n\nFritz Hinterberger\, Club of Rome Austrian Chapter\n\n\n\nMartina Affenzeller\, Kinderbüro der Universität Wien\n\n\n\nVetreter:in CliMates\n\n\n\n\nModeration: Karin Huber-Heim\, Stadt Wien Stiftungsprofessur Kreislaufwirtschaft & transformative Geschäftsmodelle\, Vorstandsmitglied Circular Economy Forum Austria \n\n\n\nIm Anschluss an den Film laden wir zu einem Get-together ein\, das der Vertiefung der Thematik in Gesprächen der unterschiedlichen geladenen Stakeholder dienen soll. \n\n\n\nAblauf \n\n\n\n\n\n17:00 Ankunft und Registrierung\n\n\n\n17:30 Paneldiskussion\n\n\n\n18:30 Filmbeginn\n\n\n\nAb 19:45 Aperitivo \n\n\n\nEnde 22:00 Uhr\n\n\n\n\n\nAnreise & Erreichbarkeit \n\n\n\nWir bitten alle Teilnehmer:innen um eine klimafreundliche Anreise. Sie erreichen das Stadtkino im Künstlerhaus über den Karlsplatz mit der U1\, U2Z und U4 sowie mit weiteren öffentlichen Anbindungen. Alle Informationen zu Ihrer Anreise finden Sie unter www.wienerlinien.at \n\n\n\nKontakt \n\n\n\nFür weitere Fragen wenden Sie sich bitte an: office[@]circulareconomyforum.at \n\n\n\nKosten \n\n\n\nDie Teilnahme an der Veranstaltung ist kostenlos. \n\n\n\n \n\n\n\n\nHier kostenlos Tickets sichern
URL:https://circulareconomyforum.at/en/veranstaltungen/circular-movie-night-3/
LOCATION:Stadtkino im Künstlerhaus\, Akademiestraße 13\, Wien\, 1010\, Österreich
END:VEVENT
END:VCALENDAR